BEGIN:VCALENDAR
VERSION:2.0
PRODID:-//hacksw/handcal//NONSGML v1.0//EN
CALSCALE:GREGORIAN
BEGIN:VEVENT
ORGANIZER;CN=Southwest Gas Holdings:MAILTO:no-reply@mail.gcs-web.com
DTEND:20260624T210000Z
UID:de168bc5-db0b-46fa-9e56-9fcf6eecbe92
DTSTAMP:1777071351
LOCATION:https://www.swgasholdings.com/events/event-details/jp-morgan-natural-resources-conference
DESCRIPTION:Event Details https://www.swgasholdings.com/events/event-details/jp-morgan-natural-resources-conference
URL;VALUE=URI:https://www.swgasholdings.com/events/event-details/jp-morgan-natural-resources-conference
SUMMARY:Southwest Gas Holdings - J.P. Morgan Natural Resources Conference
DTSTART:20260623T210000Z
END:VEVENT
END:VCALENDAR