BEGIN:VCALENDAR
VERSION:2.0
PRODID:-//hacksw/handcal//NONSGML v1.0//EN
CALSCALE:GREGORIAN
BEGIN:VEVENT
ORGANIZER;CN=Southwest Gas Holdings:MAILTO:no-reply@mail.gcs-web.com
DTEND:
UID:ccbe6c8d-4de9-49c3-9a27-eb678eefbfe3
DTSTAMP:1777071351
LOCATION:https://www.swgasholdings.com/events/event-details/mizuho-mid-cap-utilities-conference-0
DESCRIPTION:Event Details https://www.swgasholdings.com/events/event-details/mizuho-mid-cap-utilities-conference-0
URL;VALUE=URI:https://www.swgasholdings.com/events/event-details/mizuho-mid-cap-utilities-conference-0
SUMMARY:Southwest Gas Holdings - Mizuho Mid-Cap Utilities Conference
DTSTART:20260604T210000Z
END:VEVENT
END:VCALENDAR